BEGIN:VCALENDAR
VERSION:2.0
PRODID:-//hacksw/handcal//NONSGML v1.0//EN
BEGIN:VEVENT
UID:node-2879-0@london50.icann.org
DTSTAMP:20140624T101500Z
DTSTART:20140624T101500Z
DTEND:20140624T121500Z
SUMMARY:NextGen@ICANN50 Daily Meetup and Discussion
DESCRIPTION: The NextGen@ICANN initiative brings together future community members between the ages of 18 and 30 to discuss, share, and learn about ICANN, the multistakeholder process, and to get more involved. Students will be holding daily discussions and do presentations each day of the meeting from 1400 – 1600. All are invited to attend and participate in the discussions that will be happening on a rolling basis. - https://london50.icann.org/en/schedule/tue-nextgen
LOCATION:Hilton 1-6
END:VEVENT
END:VCALENDAR