BEGIN:VCALENDAR
VERSION:2.0
PRODID:-//hacksw/handcal//NONSGML v1.0//EN
BEGIN:VEVENT
UID:node-3541-0@la51.icann.org
DTSTAMP:20141014T210000Z
DTSTART:20141014T210000Z
DTEND:20141014T220000Z
SUMMARY:GAC / ALAC Joint Meeting
DESCRIPTION: The GAC meeting with the ALAC will address the outcomes from the At-Large Summit in London and ICANN's Accountability and Governance. - https://la51.icann.org/en/schedule/tue-gac-alac
LOCATION:Plaza Pavilion
END:VEVENT
END:VCALENDAR